BEGIN:VCALENDAR
VERSION:2.0
PRODID:-//University Campus Doncaster - ECPv6.15.20//NONSGML v1.0//EN
CALSCALE:GREGORIAN
METHOD:PUBLISH
X-WR-CALNAME:University Campus Doncaster
X-ORIGINAL-URL:https://www.ucdon.ac.uk
X-WR-CALDESC:Events for University Campus Doncaster
REFRESH-INTERVAL;VALUE=DURATION:PT1H
X-Robots-Tag:noindex
X-PUBLISHED-TTL:PT1H
BEGIN:VTIMEZONE
TZID:Europe/London
BEGIN:DAYLIGHT
TZOFFSETFROM:+0000
TZOFFSETTO:+0100
TZNAME:BST
DTSTART:20250330T010000
END:DAYLIGHT
BEGIN:STANDARD
TZOFFSETFROM:+0100
TZOFFSETTO:+0000
TZNAME:GMT
DTSTART:20251026T010000
END:STANDARD
BEGIN:DAYLIGHT
TZOFFSETFROM:+0000
TZOFFSETTO:+0100
TZNAME:BST
DTSTART:20260329T010000
END:DAYLIGHT
BEGIN:STANDARD
TZOFFSETFROM:+0100
TZOFFSETTO:+0000
TZNAME:GMT
DTSTART:20261025T010000
END:STANDARD
BEGIN:DAYLIGHT
TZOFFSETFROM:+0000
TZOFFSETTO:+0100
TZNAME:BST
DTSTART:20270328T010000
END:DAYLIGHT
BEGIN:STANDARD
TZOFFSETFROM:+0100
TZOFFSETTO:+0000
TZNAME:GMT
DTSTART:20271031T010000
END:STANDARD
END:VTIMEZONE
BEGIN:VEVENT
DTSTART;TZID=Europe/London:20260127T170000
DTEND;TZID=Europe/London:20260127T190000
DTSTAMP:20260422T022949
CREATED:20260114T164325Z
LAST-MODIFIED:20260114T164610Z
UID:10000012-1769533200-1769540400@www.ucdon.ac.uk
SUMMARY:Doncaster Knights Academy Open Event
DESCRIPTION:Level up your rugby & education with UCDon and Doncaster Knights Academy \nAre you\, or someone you know\, ready to take your rugby to the next level while continuing your studies? \nJoin us to find out more about the 18+ Doncaster Knights Academy Study & Play programme\, in partnership with University Campus Doncaster (UCDon). \nAt the event\, you’ll get to: \n\n\nMeet the coaches\, players\, and academic staff behind the Academy \n\n\nTake part in an on-pitch training taster session and experience Academy-level rugby first-hand \n\n\nDiscover how the programme helps you develop your rugby skills while studying any HNC or degree course at UCDon. \n\n\nEvent highlights: \n\nOn-pitch training taster session to get a feel for Academy life\n\n\n\nQ&A with the Doncaster Knights Academy coaching team and UCDon academic staff \n\n\nMeet current Academy players and hear about their journey. \n\n\nWe can’t wait to welcome you! \nHow to register: Please register the individual interested in studying at UCDon. Family members\, carers\, or partners are welcome\, just select the number of tickets needed\, no separate registration is required. \nPlease be aware\, University Campus Doncaster (UCDon) may take photographs or videos during this event for promotional and marketing purposes. If you do not wish to be photographed or filmed\, please inform a member of staff on the day.
URL:https://www.ucdon.ac.uk/event/doncaster-knights-academy-open-event/
LOCATION:Doncaster Knights RFC\, Armthorpe Road\, Doncaster\, South Yorkshire\, DN2 5QB\, United Kingdom
CATEGORIES:Open Events
ATTACH;FMTTYPE=image/jpeg:https://www.ucdon.ac.uk/wp-content/uploads/2026/01/5704_Knights-Academy-Open-Event_Social-Media_January-20262-scaled.jpg
END:VEVENT
END:VCALENDAR