BEGIN:VCALENDAR
VERSION:2.0
PRODID:-//University Campus Doncaster - ECPv6.15.20//NONSGML v1.0//EN
CALSCALE:GREGORIAN
METHOD:PUBLISH
X-ORIGINAL-URL:https://www.ucdon.ac.uk
X-WR-CALDESC:Events for University Campus Doncaster
REFRESH-INTERVAL;VALUE=DURATION:PT1H
X-Robots-Tag:noindex
X-PUBLISHED-TTL:PT1H
BEGIN:VTIMEZONE
TZID:Europe/London
BEGIN:DAYLIGHT
TZOFFSETFROM:+0000
TZOFFSETTO:+0100
TZNAME:BST
DTSTART:20240331T010000
END:DAYLIGHT
BEGIN:STANDARD
TZOFFSETFROM:+0100
TZOFFSETTO:+0000
TZNAME:GMT
DTSTART:20241027T010000
END:STANDARD
BEGIN:DAYLIGHT
TZOFFSETFROM:+0000
TZOFFSETTO:+0100
TZNAME:BST
DTSTART:20250330T010000
END:DAYLIGHT
BEGIN:STANDARD
TZOFFSETFROM:+0100
TZOFFSETTO:+0000
TZNAME:GMT
DTSTART:20251026T010000
END:STANDARD
BEGIN:DAYLIGHT
TZOFFSETFROM:+0000
TZOFFSETTO:+0100
TZNAME:BST
DTSTART:20260329T010000
END:DAYLIGHT
BEGIN:STANDARD
TZOFFSETFROM:+0100
TZOFFSETTO:+0000
TZNAME:GMT
DTSTART:20261025T010000
END:STANDARD
END:VTIMEZONE
BEGIN:VEVENT
DTSTART;TZID=Europe/London:20251028T090000
DTEND;TZID=Europe/London:20251028T170000
DTSTAMP:20260422T071314
CREATED:20250911T105113Z
LAST-MODIFIED:20250911T105113Z
UID:10000001-1761642000-1761670800@www.ucdon.ac.uk
SUMMARY:Graduation 2025
DESCRIPTION:You’ve put in so much effort\, and you’re almost at the finish line. Soon\, you’ll come together with your family\, friends\, and fellow graduates to celebrate everything you’ve achieved at your graduation ceremony. \nOur graduation team is busy putting everything together for the big day\, but we’re thrilled to share that graduation ceremonies for the Class of 2025 will take place on Tuesday 28th October 2025 at Cast. \nBe sure to follow our social media channels for the latest updates and all the exciting details. \nHave questions? Visit our FAQ page for quick answers and helpful tips to make the day unforgettable.
URL:https://www.ucdon.ac.uk/event/graduation-2025/
LOCATION:CAST\, Waterdale\, Doncaster\, DN1 3BU\, United Kingdom
CATEGORIES:Graduation
END:VEVENT
END:VCALENDAR